BEGIN:VCALENDAR
VERSION:2.0
PRODID:-//James Sprunt Community College - ECPv6.15.20//NONSGML v1.0//EN
CALSCALE:GREGORIAN
METHOD:PUBLISH
X-WR-CALNAME:James Sprunt Community College
X-ORIGINAL-URL:https://jamessprunt.edu
X-WR-CALDESC:Events for James Sprunt Community College
REFRESH-INTERVAL;VALUE=DURATION:PT1H
X-Robots-Tag:noindex
X-PUBLISHED-TTL:PT1H
BEGIN:VTIMEZONE
TZID:America/New_York
BEGIN:DAYLIGHT
TZOFFSETFROM:-0500
TZOFFSETTO:-0400
TZNAME:EDT
DTSTART:20210314T070000
END:DAYLIGHT
BEGIN:STANDARD
TZOFFSETFROM:-0400
TZOFFSETTO:-0500
TZNAME:EST
DTSTART:20211107T060000
END:STANDARD
BEGIN:DAYLIGHT
TZOFFSETFROM:-0500
TZOFFSETTO:-0400
TZNAME:EDT
DTSTART:20220313T070000
END:DAYLIGHT
BEGIN:STANDARD
TZOFFSETFROM:-0400
TZOFFSETTO:-0500
TZNAME:EST
DTSTART:20221106T060000
END:STANDARD
BEGIN:DAYLIGHT
TZOFFSETFROM:-0500
TZOFFSETTO:-0400
TZNAME:EDT
DTSTART:20230312T070000
END:DAYLIGHT
BEGIN:STANDARD
TZOFFSETFROM:-0400
TZOFFSETTO:-0500
TZNAME:EST
DTSTART:20231105T060000
END:STANDARD
END:VTIMEZONE
BEGIN:VEVENT
DTSTART;TZID=America/New_York:20221129T090000
DTEND;TZID=America/New_York:20221129T140000
DTSTAMP:20260422T150708
CREATED:20220809T181105Z
LAST-MODIFIED:20220815T202340Z
UID:10000352-1669712400-1669730400@jamessprunt.edu
SUMMARY:Exam Jam
DESCRIPTION:Located in the Boyette Library
URL:https://jamessprunt.edu/event/exam-jam/
ATTACH;FMTTYPE=image/png:https://jamessprunt.edu/wp-content/uploads/2022/08/Exam-Jam.png
END:VEVENT
END:VCALENDAR