BEGIN:VCALENDAR
VERSION:2.0
PRODID:-//James Sprunt Community College - ECPv6.15.20//NONSGML v1.0//EN
CALSCALE:GREGORIAN
METHOD:PUBLISH
X-WR-CALNAME:James Sprunt Community College
X-ORIGINAL-URL:https://jamessprunt.edu
X-WR-CALDESC:Events for James Sprunt Community College
REFRESH-INTERVAL;VALUE=DURATION:PT1H
X-Robots-Tag:noindex
X-PUBLISHED-TTL:PT1H
BEGIN:VTIMEZONE
TZID:America/New_York
BEGIN:DAYLIGHT
TZOFFSETFROM:-0500
TZOFFSETTO:-0400
TZNAME:EDT
DTSTART:20210314T070000
END:DAYLIGHT
BEGIN:STANDARD
TZOFFSETFROM:-0400
TZOFFSETTO:-0500
TZNAME:EST
DTSTART:20211107T060000
END:STANDARD
BEGIN:DAYLIGHT
TZOFFSETFROM:-0500
TZOFFSETTO:-0400
TZNAME:EDT
DTSTART:20220313T070000
END:DAYLIGHT
BEGIN:STANDARD
TZOFFSETFROM:-0400
TZOFFSETTO:-0500
TZNAME:EST
DTSTART:20221106T060000
END:STANDARD
BEGIN:DAYLIGHT
TZOFFSETFROM:-0500
TZOFFSETTO:-0400
TZNAME:EDT
DTSTART:20230312T070000
END:DAYLIGHT
BEGIN:STANDARD
TZOFFSETFROM:-0400
TZOFFSETTO:-0500
TZNAME:EST
DTSTART:20231105T060000
END:STANDARD
END:VTIMEZONE
BEGIN:VEVENT
DTSTART;TZID=America/New_York:20221003T110000
DTEND;TZID=America/New_York:20221006T130000
DTSTAMP:20260422T163745
CREATED:20220809T161856Z
LAST-MODIFIED:20220815T194641Z
UID:10000339-1664794800-1665061200@jamessprunt.edu
SUMMARY:Explore Opportunities: Part-time Job Fair Week
DESCRIPTION:Located in the Strickland Lobby
URL:https://jamessprunt.edu/event/explore-opportunities-part-time-job-fair-week/
ATTACH;FMTTYPE=image/png:https://jamessprunt.edu/wp-content/uploads/2022/08/Part-Time-Job-Fair-Week.png
END:VEVENT
BEGIN:VEVENT
DTSTART;TZID=America/New_York:20221003T120000
DTEND;TZID=America/New_York:20221003T130000
DTSTAMP:20260422T163745
CREATED:20220809T154544Z
LAST-MODIFIED:20220810T205400Z
UID:10000338-1664798400-1664802000@jamessprunt.edu
SUMMARY:SGA Meeting
DESCRIPTION:Located in the McGowen Boardroom
URL:https://jamessprunt.edu/event/sga-meeting-2/
ATTACH;FMTTYPE=image/png:https://jamessprunt.edu/wp-content/uploads/2022/08/SGA-MEETING.png
END:VEVENT
BEGIN:VEVENT
DTSTART;TZID=America/New_York:20221004T100000
DTEND;TZID=America/New_York:20221004T110000
DTSTAMP:20260422T163745
CREATED:20220809T162041Z
LAST-MODIFIED:20221003T205529Z
UID:10000340-1664877600-1664881200@jamessprunt.edu
SUMMARY:TRIO Presents: Interviewing Tips & Tricks
DESCRIPTION:Located in Boyette 107
URL:https://jamessprunt.edu/event/trio-presents-interviewing-tips-tricks/
ATTACH;FMTTYPE=image/png:https://jamessprunt.edu/wp-content/uploads/2022/08/Copy-of-Trio-Requests-2.png
END:VEVENT
BEGIN:VEVENT
DTSTART;VALUE=DATE:20221006
DTEND;VALUE=DATE:20221007
DTSTAMP:20260422T163745
CREATED:20220831T202521Z
LAST-MODIFIED:20221005T194857Z
UID:10000287-1665014400-1665100799@jamessprunt.edu
SUMMARY:ECU- Partnership Teach Program/ Department of Education College
DESCRIPTION:Information Session:  10:00 A.M. – 11:00 P.M.  / Boyette 113\nTable Setup: 11:00 A.M. – 12:00 P.M.  / Strickland Lobby
URL:https://jamessprunt.edu/event/ecu-partnership-teach-program-department-of-education-college/
ATTACH;FMTTYPE=image/png:https://jamessprunt.edu/wp-content/uploads/2022/10/SS-Partnership-Teach.png
END:VEVENT
BEGIN:VEVENT
DTSTART;TZID=America/New_York:20221013T090000
DTEND;TZID=America/New_York:20221013T110000
DTSTAMP:20260422T163745
CREATED:20220809T162428Z
LAST-MODIFIED:20220815T195033Z
UID:10000341-1665651600-1665658800@jamessprunt.edu
SUMMARY:Hispanic Heritage Celebration
DESCRIPTION:Located in the Strickland Lobby
URL:https://jamessprunt.edu/event/hispanic-heritage-celebration/
ATTACH;FMTTYPE=image/png:https://jamessprunt.edu/wp-content/uploads/2022/08/Hispanic-Heritage-Celebration.png
END:VEVENT
BEGIN:VEVENT
DTSTART;TZID=America/New_York:20221018T083000
DTEND;TZID=America/New_York:20221018T103000
DTSTAMP:20260422T163745
CREATED:20220907T174155Z
LAST-MODIFIED:20220914T162847Z
UID:10000293-1666081800-1666089000@jamessprunt.edu
SUMMARY:ECU (Admission/ Transfer Office) College Representative Visit
DESCRIPTION:East Carolina University \nTable setup only:  8:30 A.M. – 10:30 A.M.  / Strickland Lobby
URL:https://jamessprunt.edu/event/ecu-admission-transfer-office-college-representative-visit/
ATTACH;FMTTYPE=image/png:https://jamessprunt.edu/wp-content/uploads/2022/09/College-Representative-Visit.png
END:VEVENT
BEGIN:VEVENT
DTSTART;TZID=America/New_York:20221019T110000
DTEND;TZID=America/New_York:20221019T140000
DTSTAMP:20260422T163745
CREATED:20220809T162824Z
LAST-MODIFIED:20220815T195339Z
UID:10000342-1666177200-1666188000@jamessprunt.edu
SUMMARY:Fall Fest
DESCRIPTION:Located on the Campus Lawn
URL:https://jamessprunt.edu/event/fall-fest/
ATTACH;FMTTYPE=image/png:https://jamessprunt.edu/wp-content/uploads/2022/08/Fall-Festival-.png
END:VEVENT
BEGIN:VEVENT
DTSTART;TZID=America/New_York:20221020T130000
DTEND;TZID=America/New_York:20221020T140000
DTSTAMP:20260422T163745
CREATED:20220831T203204Z
LAST-MODIFIED:20220906T150521Z
UID:10000288-1666270800-1666274400@jamessprunt.edu
SUMMARY:Financial Aid Workshop
DESCRIPTION:
URL:https://jamessprunt.edu/event/financial-aid-workshop-2/
ATTACH;FMTTYPE=image/png:https://jamessprunt.edu/wp-content/uploads/2022/08/Financial-Aid-Workshop-2.png
END:VEVENT
BEGIN:VEVENT
DTSTART;TZID=America/New_York:20221025T110000
DTEND;TZID=America/New_York:20221025T130000
DTSTAMP:20260422T163745
CREATED:20220831T203327Z
LAST-MODIFIED:20220907T175127Z
UID:10000289-1666695600-1666702800@jamessprunt.edu
SUMMARY:Campbell University College Representative on Campus
DESCRIPTION:Information Session: 11:00 A.M. – 12:00 P.M. / Boyette 113\nTable set up only: 12:00 P.M. –  1:00 P.M. / Strickland Lobby
URL:https://jamessprunt.edu/event/campbell-university-college-representative-on-campus/
ATTACH;FMTTYPE=image/png:https://jamessprunt.edu/wp-content/uploads/2022/08/College-Representative-Visit.png
END:VEVENT
BEGIN:VEVENT
DTSTART;TZID=America/New_York:20221031T080000
DTEND;TZID=America/New_York:20221104T170000
DTSTAMP:20260422T163745
CREATED:20220809T162919Z
LAST-MODIFIED:20220815T195617Z
UID:10000343-1667203200-1667581200@jamessprunt.edu
SUMMARY:Spartan Advising Week
DESCRIPTION:
URL:https://jamessprunt.edu/event/spartan-advising-week/
ATTACH;FMTTYPE=image/png:https://jamessprunt.edu/wp-content/uploads/2022/08/Spartan-Advising-.png
END:VEVENT
END:VCALENDAR