BEGIN:VCALENDAR
VERSION:2.0
PRODID:-//James Sprunt Community College - ECPv6.15.20//NONSGML v1.0//EN
CALSCALE:GREGORIAN
METHOD:PUBLISH
X-ORIGINAL-URL:https://jamessprunt.edu
X-WR-CALDESC:Events for James Sprunt Community College
REFRESH-INTERVAL;VALUE=DURATION:PT1H
X-Robots-Tag:noindex
X-PUBLISHED-TTL:PT1H
BEGIN:VTIMEZONE
TZID:America/New_York
BEGIN:DAYLIGHT
TZOFFSETFROM:-0500
TZOFFSETTO:-0400
TZNAME:EDT
DTSTART:20220313T070000
END:DAYLIGHT
BEGIN:STANDARD
TZOFFSETFROM:-0400
TZOFFSETTO:-0500
TZNAME:EST
DTSTART:20221106T060000
END:STANDARD
BEGIN:DAYLIGHT
TZOFFSETFROM:-0500
TZOFFSETTO:-0400
TZNAME:EDT
DTSTART:20230312T070000
END:DAYLIGHT
BEGIN:STANDARD
TZOFFSETFROM:-0400
TZOFFSETTO:-0500
TZNAME:EST
DTSTART:20231105T060000
END:STANDARD
BEGIN:DAYLIGHT
TZOFFSETFROM:-0500
TZOFFSETTO:-0400
TZNAME:EDT
DTSTART:20240310T070000
END:DAYLIGHT
BEGIN:STANDARD
TZOFFSETFROM:-0400
TZOFFSETTO:-0500
TZNAME:EST
DTSTART:20241103T060000
END:STANDARD
END:VTIMEZONE
BEGIN:VEVENT
DTSTART;TZID=America/New_York:20230202T090000
DTEND;TZID=America/New_York:20230202T110000
DTSTAMP:20260422T070610
CREATED:20230123T205705Z
LAST-MODIFIED:20230123T205806Z
UID:10000386-1675328400-1675335600@jamessprunt.edu
SUMMARY:Free Coffee Thursday
DESCRIPTION:
URL:https://jamessprunt.edu/event/free-coffee-thursday/
ATTACH;FMTTYPE=image/png:https://jamessprunt.edu/wp-content/uploads/2023/01/22-WOW-Week-1-1.png
END:VEVENT
BEGIN:VEVENT
DTSTART;TZID=America/New_York:20230202T110000
DTEND;TZID=America/New_York:20230202T120000
DTSTAMP:20260422T070610
CREATED:20221206T183906Z
LAST-MODIFIED:20221206T183906Z
UID:10000296-1675335600-1675339200@jamessprunt.edu
SUMMARY:TRIO SSS Workshop/ Tutor Orientation
DESCRIPTION:
URL:https://jamessprunt.edu/event/trio-sss-workshop-tutor-orientation/
ATTACH;FMTTYPE=image/png:https://jamessprunt.edu/wp-content/uploads/2022/12/2_2-Tutor-Orientation.png
END:VEVENT
BEGIN:VEVENT
DTSTART;TZID=America/New_York:20230207T100000
DTEND;TZID=America/New_York:20230207T120000
DTSTAMP:20260422T070610
CREATED:20230119T214914Z
LAST-MODIFIED:20230829T002132Z
UID:10000384-1675764000-1675771200@jamessprunt.edu
SUMMARY:FSU Representative Visit
DESCRIPTION:
URL:https://jamessprunt.edu/event/fsu-representative-visit/
ATTACH;FMTTYPE=image/png:https://jamessprunt.edu/wp-content/uploads/2023/08/8.FSU_-1.png
END:VEVENT
BEGIN:VEVENT
DTSTART;TZID=America/New_York:20230208T103000
DTEND;TZID=America/New_York:20230208T113000
DTSTAMP:20260422T070610
CREATED:20221206T184029Z
LAST-MODIFIED:20221206T184141Z
UID:10000297-1675852200-1675855800@jamessprunt.edu
SUMMARY:Trio SSS Workshop/ Combating the Freshman Fifteen
DESCRIPTION:
URL:https://jamessprunt.edu/event/trio-sss-workshop-combating-the-freshman-fifteen/
ATTACH;FMTTYPE=image/png:https://jamessprunt.edu/wp-content/uploads/2022/12/2_8-Combat-the-Freshman-15.png
END:VEVENT
BEGIN:VEVENT
DTSTART;TZID=America/New_York:20230221T100000
DTEND;TZID=America/New_York:20230221T110000
DTSTAMP:20260422T070610
CREATED:20221206T184448Z
LAST-MODIFIED:20221214T134718Z
UID:10000299-1676973600-1676977200@jamessprunt.edu
SUMMARY:TRIO SSS Workshop/ Financial Aid
DESCRIPTION:
URL:https://jamessprunt.edu/event/trio-sss-workshop-financial-aid-2/
ATTACH;FMTTYPE=image/png:https://jamessprunt.edu/wp-content/uploads/2022/12/2_21-Financial-Aid-1.png
END:VEVENT
BEGIN:VEVENT
DTSTART;TZID=America/New_York:20230223T093000
DTEND;TZID=America/New_York:20230223T103000
DTSTAMP:20260422T070610
CREATED:20221206T184739Z
LAST-MODIFIED:20221206T184739Z
UID:10000301-1677144600-1677148200@jamessprunt.edu
SUMMARY:TRIO SSS Workshop/ Financial Literacy
DESCRIPTION:
URL:https://jamessprunt.edu/event/trio-sss-workshop-financial-literacy-2/
ATTACH;FMTTYPE=image/png:https://jamessprunt.edu/wp-content/uploads/2022/12/2_23-Financial-Literacy.png
END:VEVENT
END:VCALENDAR