BEGIN:VCALENDAR
VERSION:2.0
PRODID:-//James Sprunt Community College - ECPv6.15.20//NONSGML v1.0//EN
CALSCALE:GREGORIAN
METHOD:PUBLISH
X-WR-CALNAME:James Sprunt Community College
X-ORIGINAL-URL:https://jamessprunt.edu
X-WR-CALDESC:Events for James Sprunt Community College
REFRESH-INTERVAL;VALUE=DURATION:PT1H
X-Robots-Tag:noindex
X-PUBLISHED-TTL:PT1H
BEGIN:VTIMEZONE
TZID:America/New_York
BEGIN:DAYLIGHT
TZOFFSETFROM:-0500
TZOFFSETTO:-0400
TZNAME:EDT
DTSTART:20210314T070000
END:DAYLIGHT
BEGIN:STANDARD
TZOFFSETFROM:-0400
TZOFFSETTO:-0500
TZNAME:EST
DTSTART:20211107T060000
END:STANDARD
BEGIN:DAYLIGHT
TZOFFSETFROM:-0500
TZOFFSETTO:-0400
TZNAME:EDT
DTSTART:20220313T070000
END:DAYLIGHT
BEGIN:STANDARD
TZOFFSETFROM:-0400
TZOFFSETTO:-0500
TZNAME:EST
DTSTART:20221106T060000
END:STANDARD
BEGIN:DAYLIGHT
TZOFFSETFROM:-0500
TZOFFSETTO:-0400
TZNAME:EDT
DTSTART:20230312T070000
END:DAYLIGHT
BEGIN:STANDARD
TZOFFSETFROM:-0400
TZOFFSETTO:-0500
TZNAME:EST
DTSTART:20231105T060000
END:STANDARD
END:VTIMEZONE
BEGIN:VEVENT
DTSTART;TZID=America/New_York:20220615T100000
DTEND;TZID=America/New_York:20220615T123000
DTSTAMP:20260423T011433
CREATED:20220524T193855Z
LAST-MODIFIED:20220614T152959Z
UID:10000307-1655287200-1655296200@jamessprunt.edu
SUMMARY:Commitment Day
DESCRIPTION:
URL:https://jamessprunt.edu/event/commitment-day/
END:VEVENT
BEGIN:VEVENT
DTSTART;TZID=America/New_York:20220615T110000
DTEND;TZID=America/New_York:20220615T133000
DTSTAMP:20260423T011433
CREATED:20220524T193940Z
LAST-MODIFIED:20220614T152731Z
UID:10000308-1655290800-1655299800@jamessprunt.edu
SUMMARY:Summer Splash
DESCRIPTION:
URL:https://jamessprunt.edu/event/summer-splash/
END:VEVENT
END:VCALENDAR