BEGIN:VCALENDAR
VERSION:2.0
PRODID:-//James Sprunt Community College - ECPv6.15.20//NONSGML v1.0//EN
CALSCALE:GREGORIAN
METHOD:PUBLISH
X-ORIGINAL-URL:https://jamessprunt.edu
X-WR-CALDESC:Events for James Sprunt Community College
REFRESH-INTERVAL;VALUE=DURATION:PT1H
X-Robots-Tag:noindex
X-PUBLISHED-TTL:PT1H
BEGIN:VTIMEZONE
TZID:America/New_York
BEGIN:DAYLIGHT
TZOFFSETFROM:-0500
TZOFFSETTO:-0400
TZNAME:EDT
DTSTART:20210314T070000
END:DAYLIGHT
BEGIN:STANDARD
TZOFFSETFROM:-0400
TZOFFSETTO:-0500
TZNAME:EST
DTSTART:20211107T060000
END:STANDARD
BEGIN:DAYLIGHT
TZOFFSETFROM:-0500
TZOFFSETTO:-0400
TZNAME:EDT
DTSTART:20220313T070000
END:DAYLIGHT
BEGIN:STANDARD
TZOFFSETFROM:-0400
TZOFFSETTO:-0500
TZNAME:EST
DTSTART:20221106T060000
END:STANDARD
BEGIN:DAYLIGHT
TZOFFSETFROM:-0500
TZOFFSETTO:-0400
TZNAME:EDT
DTSTART:20230312T070000
END:DAYLIGHT
BEGIN:STANDARD
TZOFFSETFROM:-0400
TZOFFSETTO:-0500
TZNAME:EST
DTSTART:20231105T060000
END:STANDARD
END:VTIMEZONE
BEGIN:VEVENT
DTSTART;TZID=America/New_York:20220726T083000
DTEND;TZID=America/New_York:20220726T233000
DTSTAMP:20260423T011738
CREATED:20220525T154008Z
LAST-MODIFIED:20220525T154008Z
UID:10000315-1658824200-1658878200@jamessprunt.edu
SUMMARY:Placement Testing
DESCRIPTION:Placement will take place in Boyette. \nLink to pre-register: https://docs.google.com/forms/d/e/1FAIpQLSd-ngDKGq53_zfpd7nZxjlEXAeFndy_oWXSbp_iprtrMDCsZw/viewform \nQuestions call 910-275-6368 or 910-275-6367
URL:https://jamessprunt.edu/event/placement-testing-4/
END:VEVENT
BEGIN:VEVENT
DTSTART;TZID=America/New_York:20220727T083000
DTEND;TZID=America/New_York:20220727T120000
DTSTAMP:20260423T011738
CREATED:20220524T194331Z
LAST-MODIFIED:20220526T210042Z
UID:10000311-1658910600-1658923200@jamessprunt.edu
SUMMARY:New Student Orientation
DESCRIPTION:New Student Orientation will be held in the Boyette Lobby.
URL:https://jamessprunt.edu/event/new-student-orientation-3/
END:VEVENT
BEGIN:VEVENT
DTSTART;TZID=America/New_York:20220728T100000
DTEND;TZID=America/New_York:20220728T150000
DTSTAMP:20260423T011738
CREATED:20220725T165129Z
LAST-MODIFIED:20220725T165126Z
UID:10000324-1659002400-1659020400@jamessprunt.edu
SUMMARY:Book Buyback
DESCRIPTION:Mark your calendar!\n\n\n\nThe Bookstore will host its Summer Book Buyback on the following dates:\n\n\nThursday-July 28\, 2022–10:00AM – 3:00PM\n\n\nMonday-August 1\, 2022–10:00AM – 3:00PM\n\n\nTuesday-August 2\, 2022–10:00AM – 3:00PM\n\n\nWednesday- August 3\, 2022–10:00AM – 3:00PM\n\n\n \n\n\nBring your books by the JSCC Bookstore during the posted dates and times to see how much cash you can get for your unwanted books!\n\nFor any questions\, contact the JSCC Bookstore at (910) 275-6130.
URL:https://jamessprunt.edu/event/book-buyback/
END:VEVENT
END:VCALENDAR