BEGIN:VCALENDAR
VERSION:2.0
PRODID:-//James Sprunt Community College - ECPv6.15.20//NONSGML v1.0//EN
CALSCALE:GREGORIAN
METHOD:PUBLISH
X-WR-CALNAME:James Sprunt Community College
X-ORIGINAL-URL:https://jamessprunt.edu
X-WR-CALDESC:Events for James Sprunt Community College
REFRESH-INTERVAL;VALUE=DURATION:PT1H
X-Robots-Tag:noindex
X-PUBLISHED-TTL:PT1H
BEGIN:VTIMEZONE
TZID:America/New_York
BEGIN:DAYLIGHT
TZOFFSETFROM:-0500
TZOFFSETTO:-0400
TZNAME:EDT
DTSTART:20210314T070000
END:DAYLIGHT
BEGIN:STANDARD
TZOFFSETFROM:-0400
TZOFFSETTO:-0500
TZNAME:EST
DTSTART:20211107T060000
END:STANDARD
BEGIN:DAYLIGHT
TZOFFSETFROM:-0500
TZOFFSETTO:-0400
TZNAME:EDT
DTSTART:20220313T070000
END:DAYLIGHT
BEGIN:STANDARD
TZOFFSETFROM:-0400
TZOFFSETTO:-0500
TZNAME:EST
DTSTART:20221106T060000
END:STANDARD
BEGIN:DAYLIGHT
TZOFFSETFROM:-0500
TZOFFSETTO:-0400
TZNAME:EDT
DTSTART:20230312T070000
END:DAYLIGHT
BEGIN:STANDARD
TZOFFSETFROM:-0400
TZOFFSETTO:-0500
TZNAME:EST
DTSTART:20231105T060000
END:STANDARD
END:VTIMEZONE
BEGIN:VEVENT
DTSTART;TZID=America/New_York:20220801T100000
DTEND;TZID=America/New_York:20220801T150000
DTSTAMP:20260423T053026
CREATED:20220725T165014Z
LAST-MODIFIED:20220725T165225Z
UID:10000323-1659348000-1659366000@jamessprunt.edu
SUMMARY:Book Buyback
DESCRIPTION:Mark your calendar!\n\n\n\nThe Bookstore will host its Summer Book Buyback on the following dates:\n\n\nThursday-July 28\, 2022–10:00AM – 3:00PM\n\n\nMonday-August 1\, 2022–10:00AM – 3:00PM\n\n\nTuesday-August 2\, 2022–10:00AM – 3:00PM\n\n\nWednesday- August 3\, 2022–10:00AM – 3:00PM\n\n\n \n\n\nBring your books by the JSCC Bookstore during the posted dates and times to see how much cash you can get for your unwanted books!\n\nFor any questions\, contact the JSCC Bookstore at (910) 275-6130.
URL:https://jamessprunt.edu/event/book-buyback-2/
END:VEVENT
BEGIN:VEVENT
DTSTART;TZID=America/New_York:20220802T100000
DTEND;TZID=America/New_York:20220802T150000
DTSTAMP:20260423T053026
CREATED:20220725T164901Z
LAST-MODIFIED:20220725T164901Z
UID:10000322-1659434400-1659452400@jamessprunt.edu
SUMMARY:Book Buyback
DESCRIPTION:Mark your calendar!\n\n\n\nThe Bookstore will host its Summer Book Buyback on the following dates:\n\n\nThursday-July 28\, 2022–10:00AM – 3:00PM\n\n\nMonday-August 1\, 2022–10:00AM – 3:00PM\n\n\nTuesday-August 2\, 2022–10:00AM – 3:00PM\n\n\nWednesday- August 3\, 2022–10:00AM – 3:00PM\n\n\n \n\n\nBring your books by the JSCC Bookstore during the posted dates and times to see how much cash you can get for your unwanted books!\n\nFor any questions\, contact the JSCC Bookstore at (910) 275-6130.
URL:https://jamessprunt.edu/event/book-buyback-3/
END:VEVENT
BEGIN:VEVENT
DTSTART;TZID=America/New_York:20220803T100000
DTEND;TZID=America/New_York:20220803T150000
DTSTAMP:20260423T053026
CREATED:20220725T164805Z
LAST-MODIFIED:20220725T165313Z
UID:10000321-1659520800-1659538800@jamessprunt.edu
SUMMARY:Book Buyback
DESCRIPTION:Mark your calendar!\n\n\n\nThe Bookstore will host its Summer Book Buyback on the following dates:\n\n\nThursday-July 28\, 2022–10:00AM – 3:00PM\n\n\nMonday-August 1\, 2022–10:00AM – 3:00PM\n\n\nTuesday-August 2\, 2022–10:00AM – 3:00PM\n\n\nWednesday- August 3\, 2022–10:00AM – 3:00PM\n\n\n \n\n\nBring your books by the JSCC Bookstore during the posted dates and times to see how much cash you can get for your unwanted books!\n\nFor any questions\, contact the JSCC Bookstore at (910) 275-6130.
URL:https://jamessprunt.edu/event/book-buyback-4/
END:VEVENT
END:VCALENDAR