BEGIN:VCALENDAR
VERSION:2.0
PRODID:-//James Sprunt Community College - ECPv6.15.20//NONSGML v1.0//EN
CALSCALE:GREGORIAN
METHOD:PUBLISH
X-WR-CALNAME:James Sprunt Community College
X-ORIGINAL-URL:https://jamessprunt.edu
X-WR-CALDESC:Events for James Sprunt Community College
REFRESH-INTERVAL;VALUE=DURATION:PT1H
X-Robots-Tag:noindex
X-PUBLISHED-TTL:PT1H
BEGIN:VTIMEZONE
TZID:America/New_York
BEGIN:DAYLIGHT
TZOFFSETFROM:-0500
TZOFFSETTO:-0400
TZNAME:EDT
DTSTART:20210314T070000
END:DAYLIGHT
BEGIN:STANDARD
TZOFFSETFROM:-0400
TZOFFSETTO:-0500
TZNAME:EST
DTSTART:20211107T060000
END:STANDARD
BEGIN:DAYLIGHT
TZOFFSETFROM:-0500
TZOFFSETTO:-0400
TZNAME:EDT
DTSTART:20220313T070000
END:DAYLIGHT
BEGIN:STANDARD
TZOFFSETFROM:-0400
TZOFFSETTO:-0500
TZNAME:EST
DTSTART:20221106T060000
END:STANDARD
BEGIN:DAYLIGHT
TZOFFSETFROM:-0500
TZOFFSETTO:-0400
TZNAME:EDT
DTSTART:20230312T070000
END:DAYLIGHT
BEGIN:STANDARD
TZOFFSETFROM:-0400
TZOFFSETTO:-0500
TZNAME:EST
DTSTART:20231105T060000
END:STANDARD
END:VTIMEZONE
BEGIN:VEVENT
DTSTART;TZID=America/New_York:20220816T080000
DTEND;TZID=America/New_York:20220816T180000
DTSTAMP:20260423T023521
CREATED:20220810T170841Z
LAST-MODIFIED:20220810T170841Z
UID:10000361-1660636800-1660672800@jamessprunt.edu
SUMMARY:Walk-In Registration!
DESCRIPTION:Walk-In Registration is on August 16 and 17th from 8–6 pm in the Boyette Building. \nFew items to consider: \n\nStudents who want to register by phone on August 16th or 17th may call the Registration Hotline at 910-275-6334.\nStudent Services will offer walk-in placement testing from 9-3 pm in the Boyette Library.\nThe payment deadline is August 17th at 6 pm.\nWhile the Fall semester begins on August 18th\, JSCC will offer select late start classes in September for students not prepared to enroll this month. Register now to reserve your spot.
URL:https://jamessprunt.edu/event/walk-in-registration/
ATTACH;FMTTYPE=image/png:https://jamessprunt.edu/wp-content/uploads/2022/08/NEW-2022-Last-minute-registration-1.png
END:VEVENT
BEGIN:VEVENT
DTSTART;TZID=America/New_York:20220816T083000
DTEND;TZID=America/New_York:20220816T233000
DTSTAMP:20260423T023521
CREATED:20220525T154201Z
LAST-MODIFIED:20220812T143535Z
UID:10000317-1660638600-1660692600@jamessprunt.edu
SUMMARY:Placement Testing
DESCRIPTION:Placement will take place in Boyette. \nLink to pre-register: https://docs.google.com/forms/d/e/1FAIpQLSd-ngDKGq53_zfpd7nZxjlEXAeFndy_oWXSbp_iprtrMDCsZw/viewform \nQuestions call 910-275-6368 or 910-275-6367
URL:https://jamessprunt.edu/event/placement-testing-6/
ATTACH;FMTTYPE=image/png:https://jamessprunt.edu/wp-content/uploads/2022/05/Placement-Testing-Image-1.png
END:VEVENT
BEGIN:VEVENT
DTSTART;VALUE=DATE:20220818
DTEND;VALUE=DATE:20220819
DTSTAMP:20260423T023521
CREATED:20220515T190035Z
LAST-MODIFIED:20220809T184007Z
UID:10000305-1660780800-1660867199@jamessprunt.edu
SUMMARY:Fall Semester Starts
DESCRIPTION:
URL:https://jamessprunt.edu/event/fall-semester-starts/
ATTACH;FMTTYPE=image/png:https://jamessprunt.edu/wp-content/uploads/2022/05/Your-future-is-waiting...-8.5-×-11-in-Instagram-Post-Square.png
END:VEVENT
END:VCALENDAR