BEGIN:VCALENDAR
VERSION:2.0
PRODID:-//James Sprunt Community College - ECPv6.15.20//NONSGML v1.0//EN
CALSCALE:GREGORIAN
METHOD:PUBLISH
X-WR-CALNAME:James Sprunt Community College
X-ORIGINAL-URL:https://jamessprunt.edu
X-WR-CALDESC:Events for James Sprunt Community College
REFRESH-INTERVAL;VALUE=DURATION:PT1H
X-Robots-Tag:noindex
X-PUBLISHED-TTL:PT1H
BEGIN:VTIMEZONE
TZID:America/New_York
BEGIN:DAYLIGHT
TZOFFSETFROM:-0500
TZOFFSETTO:-0400
TZNAME:EDT
DTSTART:20210314T070000
END:DAYLIGHT
BEGIN:STANDARD
TZOFFSETFROM:-0400
TZOFFSETTO:-0500
TZNAME:EST
DTSTART:20211107T060000
END:STANDARD
BEGIN:DAYLIGHT
TZOFFSETFROM:-0500
TZOFFSETTO:-0400
TZNAME:EDT
DTSTART:20220313T070000
END:DAYLIGHT
BEGIN:STANDARD
TZOFFSETFROM:-0400
TZOFFSETTO:-0500
TZNAME:EST
DTSTART:20221106T060000
END:STANDARD
BEGIN:DAYLIGHT
TZOFFSETFROM:-0500
TZOFFSETTO:-0400
TZNAME:EDT
DTSTART:20230312T070000
END:DAYLIGHT
BEGIN:STANDARD
TZOFFSETFROM:-0400
TZOFFSETTO:-0500
TZNAME:EST
DTSTART:20231105T060000
END:STANDARD
END:VTIMEZONE
BEGIN:VEVENT
DTSTART;VALUE=DATE:20220927
DTEND;VALUE=DATE:20220928
DTSTAMP:20260422T181226
CREATED:20220831T202157Z
LAST-MODIFIED:20220907T173430Z
UID:10000286-1664236800-1664323199@jamessprunt.edu
SUMMARY:UNC- Pembroke College Representative on Campus
DESCRIPTION:Information Session 11:00 A.M.  – 12:00 P.M. / Boyette 107 Distance Learning Room\nTable Setup 12:00 P.M. – 1:00 P.M. / Strickland Lobby
URL:https://jamessprunt.edu/event/unc-pembroke-college-representative-on-campus/
ATTACH;FMTTYPE=image/png:https://jamessprunt.edu/wp-content/uploads/2022/08/College-Representative-Visit-copy.png
END:VEVENT
BEGIN:VEVENT
DTSTART;TZID=America/New_York:20220929T103000
DTEND;TZID=America/New_York:20220929T233000
DTSTAMP:20260422T181226
CREATED:20220804T204210Z
LAST-MODIFIED:20220908T200131Z
UID:10000337-1664447400-1664494200@jamessprunt.edu
SUMMARY:TRIO Presents Penny Pinching: Aps & Tips for Saving Money
DESCRIPTION:Located in Williams 100
URL:https://jamessprunt.edu/event/trio-presents-penny-pinching-aps-tips-for-saving-money/
ATTACH;FMTTYPE=image/png:https://jamessprunt.edu/wp-content/uploads/2022/08/Penny-Pinching.png
END:VEVENT
BEGIN:VEVENT
DTSTART;TZID=America/New_York:20220929T120000
DTEND;TZID=America/New_York:20220929T130000
DTSTAMP:20260422T181226
CREATED:20220804T203030Z
LAST-MODIFIED:20220815T194505Z
UID:10000336-1664452800-1664456400@jamessprunt.edu
SUMMARY:BINGO
DESCRIPTION:
URL:https://jamessprunt.edu/event/bingo/
ATTACH;FMTTYPE=image/png:https://jamessprunt.edu/wp-content/uploads/2022/08/BINGO.png
END:VEVENT
END:VCALENDAR