BEGIN:VCALENDAR
VERSION:2.0
PRODID:-//James Sprunt Community College - ECPv6.15.20//NONSGML v1.0//EN
CALSCALE:GREGORIAN
METHOD:PUBLISH
X-WR-CALNAME:James Sprunt Community College
X-ORIGINAL-URL:https://jamessprunt.edu
X-WR-CALDESC:Events for James Sprunt Community College
REFRESH-INTERVAL;VALUE=DURATION:PT1H
X-Robots-Tag:noindex
X-PUBLISHED-TTL:PT1H
BEGIN:VTIMEZONE
TZID:America/New_York
BEGIN:DAYLIGHT
TZOFFSETFROM:-0500
TZOFFSETTO:-0400
TZNAME:EDT
DTSTART:20210314T070000
END:DAYLIGHT
BEGIN:STANDARD
TZOFFSETFROM:-0400
TZOFFSETTO:-0500
TZNAME:EST
DTSTART:20211107T060000
END:STANDARD
BEGIN:DAYLIGHT
TZOFFSETFROM:-0500
TZOFFSETTO:-0400
TZNAME:EDT
DTSTART:20220313T070000
END:DAYLIGHT
BEGIN:STANDARD
TZOFFSETFROM:-0400
TZOFFSETTO:-0500
TZNAME:EST
DTSTART:20221106T060000
END:STANDARD
BEGIN:DAYLIGHT
TZOFFSETFROM:-0500
TZOFFSETTO:-0400
TZNAME:EDT
DTSTART:20230312T070000
END:DAYLIGHT
BEGIN:STANDARD
TZOFFSETFROM:-0400
TZOFFSETTO:-0500
TZNAME:EST
DTSTART:20231105T060000
END:STANDARD
END:VTIMEZONE
BEGIN:VEVENT
DTSTART;TZID=America/New_York:20221031T080000
DTEND;TZID=America/New_York:20221104T170000
DTSTAMP:20260422T181828
CREATED:20220809T162919Z
LAST-MODIFIED:20220815T195617Z
UID:10000343-1667203200-1667581200@jamessprunt.edu
SUMMARY:Spartan Advising Week
DESCRIPTION:
URL:https://jamessprunt.edu/event/spartan-advising-week/
ATTACH;FMTTYPE=image/png:https://jamessprunt.edu/wp-content/uploads/2022/08/Spartan-Advising-.png
END:VEVENT
BEGIN:VEVENT
DTSTART;TZID=America/New_York:20221102T083000
DTEND;TZID=America/New_York:20221102T120000
DTSTAMP:20260422T181828
CREATED:20221102T200010Z
LAST-MODIFIED:20221102T200010Z
UID:10000371-1667377800-1667390400@jamessprunt.edu
SUMMARY:New Student Orientation
DESCRIPTION:Located in Boyette Lobby
URL:https://jamessprunt.edu/event/new-student-orientation-5/
ATTACH;FMTTYPE=image/png:https://jamessprunt.edu/wp-content/uploads/2022/11/SPRING-New-Student-Orientation-.png
END:VEVENT
BEGIN:VEVENT
DTSTART;TZID=America/New_York:20221102T100000
DTEND;TZID=America/New_York:20221102T110000
DTSTAMP:20260422T181828
CREATED:20221102T201313Z
LAST-MODIFIED:20221102T201313Z
UID:10000375-1667383200-1667386800@jamessprunt.edu
SUMMARY:Trio SSS Freshman and New Participant Experience Workshop
DESCRIPTION:Located in Boyette 113
URL:https://jamessprunt.edu/event/trio-sss-freshman-and-new-participant-experience-workshop/
ATTACH;FMTTYPE=image/png:https://jamessprunt.edu/wp-content/uploads/2022/11/November-TRIO.png
END:VEVENT
BEGIN:VEVENT
DTSTART;TZID=America/New_York:20221103T100000
DTEND;TZID=America/New_York:20221103T110000
DTSTAMP:20260422T181828
CREATED:20221102T195708Z
LAST-MODIFIED:20221102T195708Z
UID:10000370-1667469600-1667473200@jamessprunt.edu
SUMMARY:Read-2-Learn
DESCRIPTION:Location in Boyette 113
URL:https://jamessprunt.edu/event/read-2-learn/
ATTACH;FMTTYPE=image/png:https://jamessprunt.edu/wp-content/uploads/2022/11/Reading-Strategies-Workshop-8.5-×-11-in-8.5-×-11-in-1.png
END:VEVENT
END:VCALENDAR