BEGIN:VCALENDAR
VERSION:2.0
PRODID:-//James Sprunt Community College - ECPv6.15.20//NONSGML v1.0//EN
CALSCALE:GREGORIAN
METHOD:PUBLISH
X-ORIGINAL-URL:https://jamessprunt.edu
X-WR-CALDESC:Events for James Sprunt Community College
REFRESH-INTERVAL;VALUE=DURATION:PT1H
X-Robots-Tag:noindex
X-PUBLISHED-TTL:PT1H
BEGIN:VTIMEZONE
TZID:America/New_York
BEGIN:DAYLIGHT
TZOFFSETFROM:-0500
TZOFFSETTO:-0400
TZNAME:EDT
DTSTART:20210314T070000
END:DAYLIGHT
BEGIN:STANDARD
TZOFFSETFROM:-0400
TZOFFSETTO:-0500
TZNAME:EST
DTSTART:20211107T060000
END:STANDARD
BEGIN:DAYLIGHT
TZOFFSETFROM:-0500
TZOFFSETTO:-0400
TZNAME:EDT
DTSTART:20220313T070000
END:DAYLIGHT
BEGIN:STANDARD
TZOFFSETFROM:-0400
TZOFFSETTO:-0500
TZNAME:EST
DTSTART:20221106T060000
END:STANDARD
BEGIN:DAYLIGHT
TZOFFSETFROM:-0500
TZOFFSETTO:-0400
TZNAME:EDT
DTSTART:20230312T070000
END:DAYLIGHT
BEGIN:STANDARD
TZOFFSETFROM:-0400
TZOFFSETTO:-0500
TZNAME:EST
DTSTART:20231105T060000
END:STANDARD
END:VTIMEZONE
BEGIN:VEVENT
DTSTART;TZID=America/New_York:20221121T110000
DTEND;TZID=America/New_York:20221121T130000
DTSTAMP:20260422T182115
CREATED:20220809T180955Z
LAST-MODIFIED:20220908T183424Z
UID:10000350-1669028400-1669035600@jamessprunt.edu
SUMMARY:Thanksgiving Celebration
DESCRIPTION:Located in the Strickland Lobby
URL:https://jamessprunt.edu/event/thanksgiving-celebration/
ATTACH;FMTTYPE=image/png:https://jamessprunt.edu/wp-content/uploads/2022/08/Campus-Events-Cluster-1.png
END:VEVENT
BEGIN:VEVENT
DTSTART;TZID=America/New_York:20221121T130000
DTEND;TZID=America/New_York:20221121T140000
DTSTAMP:20260422T182115
CREATED:20221102T185315Z
LAST-MODIFIED:20221102T195210Z
UID:10000369-1669035600-1669039200@jamessprunt.edu
SUMMARY:Snack and Learn/ Trio SSS
DESCRIPTION:Located in Boyette 113
URL:https://jamessprunt.edu/event/snack-and-learn-trio-sss/
ATTACH;FMTTYPE=image/png:https://jamessprunt.edu/wp-content/uploads/2022/11/Snack-and-Learn-TRIO-8.5-×-11-in-8.5-×-11-in.png
END:VEVENT
END:VCALENDAR