BEGIN:VCALENDAR
VERSION:2.0
PRODID:-//James Sprunt Community College - ECPv6.15.20//NONSGML v1.0//EN
CALSCALE:GREGORIAN
METHOD:PUBLISH
X-WR-CALNAME:James Sprunt Community College
X-ORIGINAL-URL:https://jamessprunt.edu
X-WR-CALDESC:Events for James Sprunt Community College
REFRESH-INTERVAL;VALUE=DURATION:PT1H
X-Robots-Tag:noindex
X-PUBLISHED-TTL:PT1H
BEGIN:VTIMEZONE
TZID:America/New_York
BEGIN:DAYLIGHT
TZOFFSETFROM:-0500
TZOFFSETTO:-0400
TZNAME:EDT
DTSTART:20210314T070000
END:DAYLIGHT
BEGIN:STANDARD
TZOFFSETFROM:-0400
TZOFFSETTO:-0500
TZNAME:EST
DTSTART:20211107T060000
END:STANDARD
BEGIN:DAYLIGHT
TZOFFSETFROM:-0500
TZOFFSETTO:-0400
TZNAME:EDT
DTSTART:20220313T070000
END:DAYLIGHT
BEGIN:STANDARD
TZOFFSETFROM:-0400
TZOFFSETTO:-0500
TZNAME:EST
DTSTART:20221106T060000
END:STANDARD
BEGIN:DAYLIGHT
TZOFFSETFROM:-0500
TZOFFSETTO:-0400
TZNAME:EDT
DTSTART:20230312T070000
END:DAYLIGHT
BEGIN:STANDARD
TZOFFSETFROM:-0400
TZOFFSETTO:-0500
TZNAME:EST
DTSTART:20231105T060000
END:STANDARD
END:VTIMEZONE
BEGIN:VEVENT
DTSTART;TZID=America/New_York:20221128T110000
DTEND;TZID=America/New_York:20221128T130000
DTSTAMP:20260422T181826
CREATED:20220907T175856Z
LAST-MODIFIED:20220907T180138Z
UID:10000363-1669633200-1669640400@jamessprunt.edu
SUMMARY:Campbell University College Representative on Campus
DESCRIPTION:Information Session: 11:00 A.M. – 12:00 P.M. / Boyette 113\nTable set up: 12:00 A.M. – 1:00 / Strickland Lobby
URL:https://jamessprunt.edu/event/campbell-university-college-representative-on-campus-3/
ATTACH;FMTTYPE=image/png:https://jamessprunt.edu/wp-content/uploads/2022/09/College-Representative-Visit-1.png
END:VEVENT
BEGIN:VEVENT
DTSTART;TZID=America/New_York:20221129T090000
DTEND;TZID=America/New_York:20221129T140000
DTSTAMP:20260422T181826
CREATED:20220809T181105Z
LAST-MODIFIED:20220815T202340Z
UID:10000352-1669712400-1669730400@jamessprunt.edu
SUMMARY:Exam Jam
DESCRIPTION:Located in the Boyette Library
URL:https://jamessprunt.edu/event/exam-jam/
ATTACH;FMTTYPE=image/png:https://jamessprunt.edu/wp-content/uploads/2022/08/Exam-Jam.png
END:VEVENT
BEGIN:VEVENT
DTSTART;TZID=America/New_York:20221130T113000
DTEND;TZID=America/New_York:20221130T123000
DTSTAMP:20260422T181826
CREATED:20220809T181300Z
LAST-MODIFIED:20220908T195944Z
UID:10000354-1669807800-1669811400@jamessprunt.edu
SUMMARY:TRIO Presents: Is it a Scam? Tips & tools to protect against fraud
DESCRIPTION:Located in Boyette 113
URL:https://jamessprunt.edu/event/trio-presents-is-it-a-scam-tips-tools-to-protect-against-fraud/
ATTACH;FMTTYPE=image/png:https://jamessprunt.edu/wp-content/uploads/2022/08/Is-it-a-Scam.png
END:VEVENT
END:VCALENDAR