BEGIN:VCALENDAR
VERSION:2.0
PRODID:-//James Sprunt Community College - ECPv6.15.20//NONSGML v1.0//EN
CALSCALE:GREGORIAN
METHOD:PUBLISH
X-ORIGINAL-URL:https://jamessprunt.edu
X-WR-CALDESC:Events for James Sprunt Community College
REFRESH-INTERVAL;VALUE=DURATION:PT1H
X-Robots-Tag:noindex
X-PUBLISHED-TTL:PT1H
BEGIN:VTIMEZONE
TZID:America/New_York
BEGIN:DAYLIGHT
TZOFFSETFROM:-0500
TZOFFSETTO:-0400
TZNAME:EDT
DTSTART:20220313T070000
END:DAYLIGHT
BEGIN:STANDARD
TZOFFSETFROM:-0400
TZOFFSETTO:-0500
TZNAME:EST
DTSTART:20221106T060000
END:STANDARD
BEGIN:DAYLIGHT
TZOFFSETFROM:-0500
TZOFFSETTO:-0400
TZNAME:EDT
DTSTART:20230312T070000
END:DAYLIGHT
BEGIN:STANDARD
TZOFFSETFROM:-0400
TZOFFSETTO:-0500
TZNAME:EST
DTSTART:20231105T060000
END:STANDARD
BEGIN:DAYLIGHT
TZOFFSETFROM:-0500
TZOFFSETTO:-0400
TZNAME:EDT
DTSTART:20240310T070000
END:DAYLIGHT
BEGIN:STANDARD
TZOFFSETFROM:-0400
TZOFFSETTO:-0500
TZNAME:EST
DTSTART:20241103T060000
END:STANDARD
END:VTIMEZONE
BEGIN:VEVENT
DTSTART;TZID=America/New_York:20230109T140000
DTEND;TZID=America/New_York:20230109T150000
DTSTAMP:20260422T182013
CREATED:20230104T184713Z
LAST-MODIFIED:20230104T184713Z
UID:10000302-1673272800-1673276400@jamessprunt.edu
SUMMARY:WOW Welcome Back Reception
DESCRIPTION:
URL:https://jamessprunt.edu/event/wow-welcome-back-reception/
ATTACH;FMTTYPE=image/png:https://jamessprunt.edu/wp-content/uploads/2023/01/Monday-1_9_23.png
END:VEVENT
BEGIN:VEVENT
DTSTART;TZID=America/New_York:20230111T100000
DTEND;TZID=America/New_York:20230111T120000
DTSTAMP:20260422T182013
CREATED:20230104T184951Z
LAST-MODIFIED:20230104T184951Z
UID:10000303-1673431200-1673438400@jamessprunt.edu
SUMMARY:WOW Let's Get Creative!
DESCRIPTION:
URL:https://jamessprunt.edu/event/wow-lets-get-creative/
ATTACH;FMTTYPE=image/png:https://jamessprunt.edu/wp-content/uploads/2023/01/Wednesday-1_11.png
END:VEVENT
BEGIN:VEVENT
DTSTART;TZID=America/New_York:20230111T110000
DTEND;TZID=America/New_York:20230111T130000
DTSTAMP:20260422T182013
CREATED:20230109T215511Z
LAST-MODIFIED:20230109T215543Z
UID:10000379-1673434800-1673442000@jamessprunt.edu
SUMMARY:WOW Resource Fair/ Food Distribution
DESCRIPTION:
URL:https://jamessprunt.edu/event/wow-resource-fair-food-distribution/
ATTACH;FMTTYPE=image/png:https://jamessprunt.edu/wp-content/uploads/2023/01/Wow-23.png
END:VEVENT
BEGIN:VEVENT
DTSTART;TZID=America/New_York:20230112T090000
DTEND;TZID=America/New_York:20230112T140000
DTSTAMP:20260422T182013
CREATED:20230109T133145Z
LAST-MODIFIED:20230109T133145Z
UID:10000378-1673514000-1673532000@jamessprunt.edu
SUMMARY:American Red Cross Blood Drive
DESCRIPTION:Thursday\, January 12th\, 9:00 AM – 2:00 PM. \nBoyette Building Room 113.
URL:https://jamessprunt.edu/event/american-red-cross-blood-drive-3/
ATTACH;FMTTYPE=image/png:https://jamessprunt.edu/wp-content/uploads/2023/01/Blood-drive-1-12-23.png
END:VEVENT
BEGIN:VEVENT
DTSTART;TZID=America/New_York:20230112T110000
DTEND;TZID=America/New_York:20230112T130000
DTSTAMP:20260422T182013
CREATED:20230104T185119Z
LAST-MODIFIED:20230104T185119Z
UID:10000376-1673521200-1673528400@jamessprunt.edu
SUMMARY:WOW College Game Day and Blood Drive
DESCRIPTION:
URL:https://jamessprunt.edu/event/wow-college-game-day-and-blood-drive/
ATTACH;FMTTYPE=image/png:https://jamessprunt.edu/wp-content/uploads/2023/01/Thursday-1_12.png
END:VEVENT
BEGIN:VEVENT
DTSTART;TZID=America/New_York:20230113T090000
DTEND;TZID=America/New_York:20230113T110000
DTSTAMP:20260422T182013
CREATED:20230104T185250Z
LAST-MODIFIED:20230104T185250Z
UID:10000377-1673600400-1673607600@jamessprunt.edu
SUMMARY:WOW Free Coffee Friday
DESCRIPTION:
URL:https://jamessprunt.edu/event/wow-free-coffee-friday/
ATTACH;FMTTYPE=image/png:https://jamessprunt.edu/wp-content/uploads/2023/01/Friday-1_13.png
END:VEVENT
END:VCALENDAR