BEGIN:VCALENDAR
VERSION:2.0
PRODID:-//James Sprunt Community College - ECPv6.15.20//NONSGML v1.0//EN
CALSCALE:GREGORIAN
METHOD:PUBLISH
X-WR-CALNAME:James Sprunt Community College
X-ORIGINAL-URL:https://jamessprunt.edu
X-WR-CALDESC:Events for James Sprunt Community College
REFRESH-INTERVAL;VALUE=DURATION:PT1H
X-Robots-Tag:noindex
X-PUBLISHED-TTL:PT1H
BEGIN:VTIMEZONE
TZID:America/New_York
BEGIN:DAYLIGHT
TZOFFSETFROM:-0500
TZOFFSETTO:-0400
TZNAME:EDT
DTSTART:20220313T070000
END:DAYLIGHT
BEGIN:STANDARD
TZOFFSETFROM:-0400
TZOFFSETTO:-0500
TZNAME:EST
DTSTART:20221106T060000
END:STANDARD
BEGIN:DAYLIGHT
TZOFFSETFROM:-0500
TZOFFSETTO:-0400
TZNAME:EDT
DTSTART:20230312T070000
END:DAYLIGHT
BEGIN:STANDARD
TZOFFSETFROM:-0400
TZOFFSETTO:-0500
TZNAME:EST
DTSTART:20231105T060000
END:STANDARD
BEGIN:DAYLIGHT
TZOFFSETFROM:-0500
TZOFFSETTO:-0400
TZNAME:EDT
DTSTART:20240310T070000
END:DAYLIGHT
BEGIN:STANDARD
TZOFFSETFROM:-0400
TZOFFSETTO:-0500
TZNAME:EST
DTSTART:20241103T060000
END:STANDARD
END:VTIMEZONE
BEGIN:VEVENT
DTSTART;TZID=America/New_York:20230118T100000
DTEND;TZID=America/New_York:20230118T110000
DTSTAMP:20260422T181734
CREATED:20221206T183729Z
LAST-MODIFIED:20221206T183729Z
UID:10000295-1674036000-1674039600@jamessprunt.edu
SUMMARY:TRIO SSS Workshop/ Library Resources
DESCRIPTION:
URL:https://jamessprunt.edu/event/trio-sss-workshop-library-resources/
ATTACH;FMTTYPE=image/png:https://jamessprunt.edu/wp-content/uploads/2022/12/1_18-Library-Resources.png
END:VEVENT
BEGIN:VEVENT
DTSTART;TZID=America/New_York:20230119T120000
DTEND;TZID=America/New_York:20230119T130000
DTSTAMP:20260422T181734
CREATED:20230113T161646Z
LAST-MODIFIED:20230113T161646Z
UID:10000381-1674129600-1674133200@jamessprunt.edu
SUMMARY:BINGO
DESCRIPTION:
URL:https://jamessprunt.edu/event/bingo-2/
ATTACH;FMTTYPE=image/png:https://jamessprunt.edu/wp-content/uploads/2023/01/Campus-Events-Cluster-2.png
END:VEVENT
BEGIN:VEVENT
DTSTART;TZID=America/New_York:20230119T130000
DTEND;TZID=America/New_York:20230119T140000
DTSTAMP:20260422T181734
CREATED:20230113T161500Z
LAST-MODIFIED:20230113T161500Z
UID:10000380-1674133200-1674136800@jamessprunt.edu
SUMMARY:TRIO SSS Workshop
DESCRIPTION:
URL:https://jamessprunt.edu/event/trio-sss-workshop/
ATTACH;FMTTYPE=image/png:https://jamessprunt.edu/wp-content/uploads/2023/01/119-Mastering-Desmos.png
END:VEVENT
END:VCALENDAR