BEGIN:VCALENDAR
VERSION:2.0
PRODID:-//James Sprunt Community College - ECPv6.15.20//NONSGML v1.0//EN
CALSCALE:GREGORIAN
METHOD:PUBLISH
X-ORIGINAL-URL:https://jamessprunt.edu
X-WR-CALDESC:Events for James Sprunt Community College
REFRESH-INTERVAL;VALUE=DURATION:PT1H
X-Robots-Tag:noindex
X-PUBLISHED-TTL:PT1H
BEGIN:VTIMEZONE
TZID:America/New_York
BEGIN:DAYLIGHT
TZOFFSETFROM:-0500
TZOFFSETTO:-0400
TZNAME:EDT
DTSTART:20220313T070000
END:DAYLIGHT
BEGIN:STANDARD
TZOFFSETFROM:-0400
TZOFFSETTO:-0500
TZNAME:EST
DTSTART:20221106T060000
END:STANDARD
BEGIN:DAYLIGHT
TZOFFSETFROM:-0500
TZOFFSETTO:-0400
TZNAME:EDT
DTSTART:20230312T070000
END:DAYLIGHT
BEGIN:STANDARD
TZOFFSETFROM:-0400
TZOFFSETTO:-0500
TZNAME:EST
DTSTART:20231105T060000
END:STANDARD
BEGIN:DAYLIGHT
TZOFFSETFROM:-0500
TZOFFSETTO:-0400
TZNAME:EDT
DTSTART:20240310T070000
END:DAYLIGHT
BEGIN:STANDARD
TZOFFSETFROM:-0400
TZOFFSETTO:-0500
TZNAME:EST
DTSTART:20241103T060000
END:STANDARD
END:VTIMEZONE
BEGIN:VEVENT
DTSTART;TZID=America/New_York:20230221T100000
DTEND;TZID=America/New_York:20230221T110000
DTSTAMP:20260422T180101
CREATED:20221206T184448Z
LAST-MODIFIED:20221214T134718Z
UID:10000299-1676973600-1676977200@jamessprunt.edu
SUMMARY:TRIO SSS Workshop/ Financial Aid
DESCRIPTION:
URL:https://jamessprunt.edu/event/trio-sss-workshop-financial-aid-2/
ATTACH;FMTTYPE=image/png:https://jamessprunt.edu/wp-content/uploads/2022/12/2_21-Financial-Aid-1.png
END:VEVENT
BEGIN:VEVENT
DTSTART;TZID=America/New_York:20230223T093000
DTEND;TZID=America/New_York:20230223T103000
DTSTAMP:20260422T180101
CREATED:20221206T184739Z
LAST-MODIFIED:20221206T184739Z
UID:10000301-1677144600-1677148200@jamessprunt.edu
SUMMARY:TRIO SSS Workshop/ Financial Literacy
DESCRIPTION:
URL:https://jamessprunt.edu/event/trio-sss-workshop-financial-literacy-2/
ATTACH;FMTTYPE=image/png:https://jamessprunt.edu/wp-content/uploads/2022/12/2_23-Financial-Literacy.png
END:VEVENT
END:VCALENDAR