BEGIN:VCALENDAR
VERSION:2.0
PRODID:-//James Sprunt Community College - ECPv6.15.20//NONSGML v1.0//EN
CALSCALE:GREGORIAN
METHOD:PUBLISH
X-ORIGINAL-URL:https://jamessprunt.edu
X-WR-CALDESC:Events for James Sprunt Community College
REFRESH-INTERVAL;VALUE=DURATION:PT1H
X-Robots-Tag:noindex
X-PUBLISHED-TTL:PT1H
BEGIN:VTIMEZONE
TZID:America/New_York
BEGIN:DAYLIGHT
TZOFFSETFROM:-0500
TZOFFSETTO:-0400
TZNAME:EDT
DTSTART:20220313T070000
END:DAYLIGHT
BEGIN:STANDARD
TZOFFSETFROM:-0400
TZOFFSETTO:-0500
TZNAME:EST
DTSTART:20221106T060000
END:STANDARD
BEGIN:DAYLIGHT
TZOFFSETFROM:-0500
TZOFFSETTO:-0400
TZNAME:EDT
DTSTART:20230312T070000
END:DAYLIGHT
BEGIN:STANDARD
TZOFFSETFROM:-0400
TZOFFSETTO:-0500
TZNAME:EST
DTSTART:20231105T060000
END:STANDARD
BEGIN:DAYLIGHT
TZOFFSETFROM:-0500
TZOFFSETTO:-0400
TZNAME:EDT
DTSTART:20240310T070000
END:DAYLIGHT
BEGIN:STANDARD
TZOFFSETFROM:-0400
TZOFFSETTO:-0500
TZNAME:EST
DTSTART:20241103T060000
END:STANDARD
END:VTIMEZONE
BEGIN:VEVENT
DTSTART;TZID=America/New_York:20230821T113000
DTEND;TZID=America/New_York:20230821T130000
DTSTAMP:20260421T124938
CREATED:20220804T201201Z
LAST-MODIFIED:20230809T213851Z
UID:10000326-1692617400-1692622800@jamessprunt.edu
SUMMARY:WOW Week Day 1: Presidents Lunch
DESCRIPTION:Please join us for lunch sponsored by the President’s Office.
URL:https://jamessprunt.edu/event/wow-week-day-1-presidents-lunch/
ATTACH;FMTTYPE=image/png:https://jamessprunt.edu/wp-content/uploads/2022/08/Presidents-Lunch-2.png
END:VEVENT
BEGIN:VEVENT
DTSTART;TZID=America/New_York:20230822T113000
DTEND;TZID=America/New_York:20230822T130000
DTSTAMP:20260421T124938
CREATED:20230809T214619Z
LAST-MODIFIED:20230816T181424Z
UID:10000396-1692703800-1692709200@jamessprunt.edu
SUMMARY:WOW Week Day 2: Food Distribution
DESCRIPTION:In the event of inclement weather\, this event will be moved to Boyette 113.
URL:https://jamessprunt.edu/event/wow-week-day-2-food-distribution/
LOCATION:Ampitheatre
ATTACH;FMTTYPE=image/png:https://jamessprunt.edu/wp-content/uploads/2023/08/Food-Distribution.png
END:VEVENT
BEGIN:VEVENT
DTSTART;TZID=America/New_York:20230823T110000
DTEND;TZID=America/New_York:20230823T130000
DTSTAMP:20260421T124938
CREATED:20230815T165521Z
LAST-MODIFIED:20230816T181424Z
UID:10000397-1692788400-1692795600@jamessprunt.edu
SUMMARY:WOW Week Day 3: Field Day & Italian Ice
DESCRIPTION:Join us on the Campus Lawn for  games\, soccer\, volleyball\, FREE italian ice\, inflatables\, & our club fair!
URL:https://jamessprunt.edu/event/wow-week-day-3-field-day-italian-ice/
ATTACH;FMTTYPE=image/png:https://jamessprunt.edu/wp-content/uploads/2023/08/Field-Day.png
END:VEVENT
BEGIN:VEVENT
DTSTART;TZID=America/New_York:20230824T110000
DTEND;TZID=America/New_York:20230824T130000
DTSTAMP:20260421T124938
CREATED:20230815T165605Z
LAST-MODIFIED:20230816T181423Z
UID:10000398-1692874800-1692882000@jamessprunt.edu
SUMMARY:WOW Week Day 4: Make Your Own Spartan Gear!
DESCRIPTION:Join us as we make shirts & cups in the Boyette Library Maker Space!
URL:https://jamessprunt.edu/event/wow-week-day-4-make-your-own-spartan-gear/
ATTACH;FMTTYPE=image/png:https://jamessprunt.edu/wp-content/uploads/2023/08/Make-your-own-spartan-gear.png
END:VEVENT
BEGIN:VEVENT
DTSTART;TZID=America/New_York:20230825T090000
DTEND;TZID=America/New_York:20230825T110000
DTSTAMP:20260421T124938
CREATED:20230815T165638Z
LAST-MODIFIED:20230816T181423Z
UID:10000399-1692954000-1692961200@jamessprunt.edu
SUMMARY:WOW Week Day 5: Free Coffee Friday
DESCRIPTION:
URL:https://jamessprunt.edu/event/wow-week-day-5-free-coffee-friday-2/
LOCATION:Strickland Lobby
ATTACH;FMTTYPE=image/png:https://jamessprunt.edu/wp-content/uploads/2023/08/Free-Coffee.png
END:VEVENT
END:VCALENDAR