BEGIN:VCALENDAR
VERSION:2.0
PRODID:-//James Sprunt Community College - ECPv6.15.20//NONSGML v1.0//EN
CALSCALE:GREGORIAN
METHOD:PUBLISH
X-ORIGINAL-URL:https://jamessprunt.edu
X-WR-CALDESC:Events for James Sprunt Community College
REFRESH-INTERVAL;VALUE=DURATION:PT1H
X-Robots-Tag:noindex
X-PUBLISHED-TTL:PT1H
BEGIN:VTIMEZONE
TZID:America/New_York
BEGIN:DAYLIGHT
TZOFFSETFROM:-0500
TZOFFSETTO:-0400
TZNAME:EDT
DTSTART:20230312T070000
END:DAYLIGHT
BEGIN:STANDARD
TZOFFSETFROM:-0400
TZOFFSETTO:-0500
TZNAME:EST
DTSTART:20231105T060000
END:STANDARD
BEGIN:DAYLIGHT
TZOFFSETFROM:-0500
TZOFFSETTO:-0400
TZNAME:EDT
DTSTART:20240310T070000
END:DAYLIGHT
BEGIN:STANDARD
TZOFFSETFROM:-0400
TZOFFSETTO:-0500
TZNAME:EST
DTSTART:20241103T060000
END:STANDARD
BEGIN:DAYLIGHT
TZOFFSETFROM:-0500
TZOFFSETTO:-0400
TZNAME:EDT
DTSTART:20250309T070000
END:DAYLIGHT
BEGIN:STANDARD
TZOFFSETFROM:-0400
TZOFFSETTO:-0500
TZNAME:EST
DTSTART:20251102T060000
END:STANDARD
END:VTIMEZONE
BEGIN:VEVENT
DTSTART;TZID=America/New_York:20240205T100000
DTEND;TZID=America/New_York:20240205T110000
DTSTAMP:20260421T052628
CREATED:20240102T185035Z
LAST-MODIFIED:20240120T170723Z
UID:10000466-1707127200-1707130800@jamessprunt.edu
SUMMARY:TRIO Presents: Financial Aid Workshop
DESCRIPTION:
URL:https://jamessprunt.edu/event/trio-presents-financial-aid-workshop/
LOCATION:Strickland Lobby
ATTACH;FMTTYPE=image/png:https://jamessprunt.edu/wp-content/uploads/2024/01/Financial-Aid-Workshop.png
END:VEVENT
BEGIN:VEVENT
DTSTART;TZID=America/New_York:20240205T120000
DTEND;TZID=America/New_York:20240205T130000
DTSTAMP:20260421T052628
CREATED:20240102T182602Z
LAST-MODIFIED:20240112T162530Z
UID:10000454-1707134400-1707138000@jamessprunt.edu
SUMMARY:SGA Meeting
DESCRIPTION:
URL:https://jamessprunt.edu/event/sga-meeting-9-2024-02-05/
LOCATION:Board Room
ATTACH;FMTTYPE=image/png:https://jamessprunt.edu/wp-content/uploads/2024/01/SGA-2.5.png
END:VEVENT
BEGIN:VEVENT
DTSTART;TZID=America/New_York:20240207T110000
DTEND;TZID=America/New_York:20240207T130000
DTSTAMP:20260421T052628
CREATED:20240102T185513Z
LAST-MODIFIED:20240112T193552Z
UID:10000468-1707303600-1707310800@jamessprunt.edu
SUMMARY:Black History Month Celebration
DESCRIPTION:
URL:https://jamessprunt.edu/event/black-history-month-celebration/
LOCATION:Strickland Lobby
ATTACH;FMTTYPE=image/png:https://jamessprunt.edu/wp-content/uploads/2024/01/BHM-Celebration-2.7.png
END:VEVENT
BEGIN:VEVENT
DTSTART;TZID=America/New_York:20240208T100000
DTEND;TZID=America/New_York:20240208T110000
DTSTAMP:20260421T052628
CREATED:20240102T185602Z
LAST-MODIFIED:20240120T170815Z
UID:10000470-1707386400-1707390000@jamessprunt.edu
SUMMARY:TRIO Presents: Navigating Online Learning
DESCRIPTION:
URL:https://jamessprunt.edu/event/trio-presents-navigating-online-learning/
LOCATION:Boyette 107
ATTACH;FMTTYPE=image/png:https://jamessprunt.edu/wp-content/uploads/2024/01/Navigating-Online-Learning.png
END:VEVENT
END:VCALENDAR