BEGIN:VCALENDAR
VERSION:2.0
PRODID:-//James Sprunt Community College - ECPv6.15.20//NONSGML v1.0//EN
CALSCALE:GREGORIAN
METHOD:PUBLISH
X-WR-CALNAME:James Sprunt Community College
X-ORIGINAL-URL:https://jamessprunt.edu
X-WR-CALDESC:Events for James Sprunt Community College
REFRESH-INTERVAL;VALUE=DURATION:PT1H
X-Robots-Tag:noindex
X-PUBLISHED-TTL:PT1H
BEGIN:VTIMEZONE
TZID:America/New_York
BEGIN:DAYLIGHT
TZOFFSETFROM:-0500
TZOFFSETTO:-0400
TZNAME:EDT
DTSTART:20240310T070000
END:DAYLIGHT
BEGIN:STANDARD
TZOFFSETFROM:-0400
TZOFFSETTO:-0500
TZNAME:EST
DTSTART:20241103T060000
END:STANDARD
BEGIN:DAYLIGHT
TZOFFSETFROM:-0500
TZOFFSETTO:-0400
TZNAME:EDT
DTSTART:20250309T070000
END:DAYLIGHT
BEGIN:STANDARD
TZOFFSETFROM:-0400
TZOFFSETTO:-0500
TZNAME:EST
DTSTART:20251102T060000
END:STANDARD
BEGIN:DAYLIGHT
TZOFFSETFROM:-0500
TZOFFSETTO:-0400
TZNAME:EDT
DTSTART:20260308T070000
END:DAYLIGHT
BEGIN:STANDARD
TZOFFSETFROM:-0400
TZOFFSETTO:-0500
TZNAME:EST
DTSTART:20261101T060000
END:STANDARD
END:VTIMEZONE
BEGIN:VEVENT
DTSTART;TZID=America/New_York:20250417T110000
DTEND;TZID=America/New_York:20250417T133000
DTSTAMP:20260420T033259
CREATED:20250305T103141Z
LAST-MODIFIED:20250305T103141Z
UID:10000906-1744887600-1744896600@jamessprunt.edu
SUMMARY:2025 Job Fair
DESCRIPTION:Get ready for an incredible opportunity at the 2025 Duplin County Job Fair\, proudly sponsored by JSCC and NC Works! Mark your calendars for Thursday\, April 17th\, from 11:00 A.M. – 1:30 P.M.\, right on the JSCC campus.\n\n\nThis event is about connecting our community — bringing together local employers and job seekers for a day of possibilities! Whether looking for your next career move or hoping to hire top talent\, this is the place to be.\n\n\n\n Dress to impress\n Bring plenty of resumes\n Meet potential employers and make connections\n\n\n\nLet’s work together to build a stronger Duplin County! For more information\, reach out to Karla Blanton at kblanton@jamessprunt.edu.\n\n\n\n Spread the word — We’ll see you there!
URL:https://jamessprunt.edu/event/2025-job-fair/
LOCATION:JSCC
ATTACH;FMTTYPE=image/png:https://jamessprunt.edu/wp-content/uploads/2025/03/Job-Fair-2025.png
END:VEVENT
END:VCALENDAR